BEGIN:VCALENDAR
VERSION:2.0
PRODID:-//Plone.org//NONSGML plone.app.event//EN
X-WR-TIMEZONE:Europe/Rome
BEGIN:VEVENT
SUMMARY:FINANZIARE LA RICERCA PER LA SALUTE 2019 - IL CONTRIBUTO DELLA FON
 DAZIONE DEL MONTE
DTSTART;TZID=Europe/Rome;VALUE=DATE-TIME:20190223T090000
DTEND;TZID=Europe/Rome;VALUE=DATE-TIME:20190223T130000
DTSTAMP;VALUE=DATE-TIME:20260421T180544Z
UID:cb9525f0064c4574b29ad23e0f364382@dimec.unibo.it
CREATED;VALUE=DATE-TIME:20190220T114517Z
DESCRIPTION:Sabato 23 febbraio\, alla  Biblioteca dell’Archiginnasio\, u
 n incontro pubblico per  presentare i risultati raggiunti da 7 progetti d
 ’eccellenza sostenuti dalla Fondazione del Monte.
LAST-MODIFIED;VALUE=DATE-TIME:20230109T140932Z
URL:https://dimec.unibo.it/it/eventi/finanziare-la-ricerca-per-la-salute-2
 019-il-contributo-della-fondazione-del-monte
END:VEVENT
BEGIN:VTIMEZONE
TZID:Europe/Rome
X-LIC-LOCATION:Europe/Rome
BEGIN:STANDARD
DTSTART;VALUE=DATE-TIME:20181028T020000
TZNAME:CET
TZOFFSETFROM:+0200
TZOFFSETTO:+0100
END:STANDARD
END:VTIMEZONE
END:VCALENDAR
