BEGIN:VCALENDAR
VERSION:2.0
PRODID:-//Plone.org//NONSGML plone.app.event//EN
X-WR-TIMEZONE:Europe/Rome
BEGIN:VEVENT
SUMMARY:Il melanoma a Bologna - I vantaggi di una gestione condivisa
DTSTART;VALUE=DATE:20190329
DTEND;VALUE=DATE:20190330
DTSTAMP;VALUE=DATE-TIME:20260419T140807Z
UID:4a8ae17e224f400b8d53b7e9c9d89722@dimec.unibo.it
CREATED;VALUE=DATE-TIME:20190326T124743Z
DESCRIPTION:L'evento rientra nel piano formativo 2019 della DOTCOM srl ed 
 è rivolto alle figure professionali di Medico Chirurgo ((Anatomia Patolog
 ica\, Dermatologia e Venereologia\, Oncologia\, Chirurgia Generale\, Chiru
 rgia Plastica e ricostruttiva\, Medicina Interna\, Radiodiagnostica\, Radi
 oterapia)\,e Farmacista ospedaliero. 
LAST-MODIFIED;VALUE=DATE-TIME:20230109T140920Z
URL:https://dimec.unibo.it/it/eventi/il-melanoma-a-bologna-i-vantaggi-di-u
 na-gestione-condivisa
END:VEVENT
END:VCALENDAR
