BEGIN:VCALENDAR
VERSION:2.0
PRODID:-//Plone.org//NONSGML plone.app.event//EN
X-WR-TIMEZONE:Europe/Rome
BEGIN:VEVENT
SUMMARY:Molecular characterization of intrahepatic cholangiocarcinoma pati
 ents exposed to asbestos by NGS approaches 
DTSTART;TZID=Europe/Rome;VALUE=DATE-TIME:20190322T143000
DTEND;TZID=Europe/Rome;VALUE=DATE-TIME:20190322T160000
DTSTAMP;VALUE=DATE-TIME:20260419T140807Z
UID:30cd542ef8a442bd9f6fdfb7a07f854f@dimec.unibo.it
CREATED;VALUE=DATE-TIME:20190213T081016Z
DESCRIPTION:Venerdì 22 marzo 2019 presso l'Auletta Placitelli al piano te
 rra del padiglione 25\, si svolgerà il seminario del Centro Unificato Ric
 erca Biomedica Applicata CRBA "Il diabete monogenico".\nRelatrice\nDr.ssa 
 Simona Tavolari (DIMES)\n
LAST-MODIFIED;VALUE=DATE-TIME:20230109T141132Z
URL:https://dimec.unibo.it/it/eventi/molecular-characterization-of-intrahe
 patic-cholangiocarcinoma-patients-exposed-to-asbestos-by-ngs-approaches
END:VEVENT
BEGIN:VTIMEZONE
TZID:Europe/Rome
X-LIC-LOCATION:Europe/Rome
BEGIN:STANDARD
DTSTART;VALUE=DATE-TIME:20181028T020000
TZNAME:CET
TZOFFSETFROM:+0200
TZOFFSETTO:+0100
END:STANDARD
END:VTIMEZONE
END:VCALENDAR
