BEGIN:VCALENDAR
VERSION:2.0
PRODID:-//Plone.org//NONSGML plone.app.event//EN
X-WR-TIMEZONE:Europe/Rome
BEGIN:VEVENT
SUMMARY:Seminari di Salute Globale
DTSTART;TZID=Europe/Rome;VALUE=DATE-TIME:20150428T085000
DTEND;TZID=Europe/Rome;VALUE=DATE-TIME:20150428T085000
DTSTAMP;VALUE=DATE-TIME:20260424T170726Z
UID:6c889a396da44ef98e970b0431545bc3@dimec.unibo.it
CREATED;VALUE=DATE-TIME:20150428T050534Z
LAST-MODIFIED;VALUE=DATE-TIME:20150428T050542Z
URL:https://dimec.unibo.it/it/eventi/seminari-di-salute-globale
END:VEVENT
BEGIN:VTIMEZONE
TZID:Europe/Rome
X-LIC-LOCATION:Europe/Rome
BEGIN:DAYLIGHT
DTSTART;VALUE=DATE-TIME:20150329T030000
TZNAME:CEST
TZOFFSETFROM:+0100
TZOFFSETTO:+0200
END:DAYLIGHT
END:VTIMEZONE
END:VCALENDAR
